BEGIN:VCALENDAR
VERSION:2.0
PRODID:-//wp-events-plugin.com//7.2.3.1//EN
TZID:Europe/Stockholm
X-WR-TIMEZONE:Europe/Stockholm
BEGIN:VEVENT
UID:1210@npk.nu
DTSTART;TZID=Europe/Stockholm;VALUE=DATE:20240629
DTEND;TZID=Europe/Stockholm;VALUE=DATE:20240701
DTSTAMP:20240523T205202Z
URL:https://npk.nu/kalender/paddling-havskajak-nyborjartur/
SUMMARY:Paddling havskajak\, nybörjartur
DESCRIPTION:Endast för medlemmar.\n\nPaddling havskajak\, nybörjartur lö
 rdag till söndag 29–30 juni\, sammankallande\när Edvin Janelöv ejanel
 ov@hotmail.com
CATEGORIES:Event
END:VEVENT
BEGIN:VTIMEZONE
TZID:Europe/Stockholm
X-LIC-LOCATION:Europe/Stockholm
BEGIN:DAYLIGHT
DTSTART:20240331T030000
TZOFFSETFROM:+0100
TZOFFSETTO:+0200
TZNAME:CEST
END:DAYLIGHT
END:VTIMEZONE
END:VCALENDAR